Workbook

Sheet DIGITAR
AK1: OS PREENCHIMENTO TEM QUE SER FEITO NESTA ABA "DIGITAR", A ABA "FORMULÁRIO" É SÓ PARA CONFERENCIA E IMPRESSÃO, SE PERCEBER QUE HÁ ERRO TEM QUE SER CORRIDO NESTA ABA DIGITAR".
A2: 1.0. DADOS DA DESIGNAÇÃO:
A3: No Ensino Fundamental serão designados para atuar como Professor Orientador de Área – POA:
B4: ( | D4: ) | E4: Professor de Educação Infantil e Ensino Fundamental I para atuar junto aos docentes com Alfabetização
B5: ( | D5: ) | E5: Professor de Ensino Fundamental II e Médio-Português para atuar junto aos docentes no componente Língua Portuguesa
B6: ( | D6: ) | E6: Professor de Ensino Fundamental II e Médio-Matemática para atuar junto aos docentes no componente de Matemática | AT6: TRAMITAÇÃO PARA DESIGNAÇÃO DE POA
AT7: Enviar formulário fisico com o plano de trabalho para DIPED que assinará o formulário, depois será enviado para Supervisor que também assinará, depois que for devolvido para UE digitalizar e encaminhar por email para o setor de CAAC com documentos/formulário abaixo:
A8: 2.0. UNIDADE PROPONENTE:
AC9: DRE:
A11: 3.0. DADOS DO PROFESSOR EFETIVO E ESTÁVEL: | AT11: DOCUMENTOS PARA DESIGNAÇÃO DE POA
B12: Nome: | AT12: 1 - FORMULÁRIO DE DESIGNAÇÃO (COM ASSINATURA DIRETOR DE ESCOLA/DIPED/SUPERVISOR ESCOLAR)
B13: Registro Funcional / Vínculo:
B14: U.E. de lotação | AT14: 2 - FORMULÁRIO FICHA LIMPA
B15: DRE: | AT15: 3 - PLANO DE TRABALHO
A17: 4.0. MANIFESTAÇÃO DO PROFESSOR ELEITO: | AT17: ENVIAR PARA O EMAIL: rhcaacdremp@sme.prefeitura.sp.gov.br
A18: ( | C18: ) | D18: apresentou Plano de Trabalho ao Conselho de Escola; | AT18: NÃO ENVIAR PARA O EMAIL DA MARCIA MARIA SEVERO DA SILVA OU DE QUALQUER MEMBRO DO SETOR DE NOMEAÇÃO/DESIGNAÇÃO.
A19: ( | C19: ) | D19: exercerá suas funções sem prejuízo das atividades de regência de classes/aulas atribuídas que compõem sua jornada de trabalho/opção;
A20: ( | C20: ) | D20: terá horário de trabalho do POA organizado em conjunto com a Equipe Gestora com ciência do Supervisor Escolar, de forma a atender as
A21: necessidades da Unidade Educacional, em conformidade com o disposto na presente Instrução Normativa;
A22: ( | C22: ) | D22: tem a disponibilidade e compromete-se a cumprir | Q22: horas semanalmente a título de Jornada Especial de Trabalho Excedente – TEX. | AK22: SE FIZER JEX/TEX NÃO ESQUECER DE INFORMAR A QUANTIDADE.
A23: ( | C23: ) | D23: possui acúmulo de cargos.
A25: São Paulo, | F25: / | H25: / | I25: 20 | AK25: NÃO ESQUECER DE DATAR, AQUI NO PREENCHIMENTO OU NA ASSINATURA.
A27: 5.0. CONSELHO DE ESCOLA:
B28: Reunião em | G28: / | I28: / | J28: 20 | AK28: NÃO ESQUECER DE COLOCAR A DATA DO CONSELHO
A30: 6.0 PLANO DE TRABALHO SUBMETIDO À ANÁLISE DA:
A31: 6.1 DRE / DIPED:
C32: São Paulo, | G32: / | I32: / | J32: 20
A34: 6.2 DRE / Supervisão Escolar:
C35: São Paulo, | G35: / | I35: / | J35: 20

Sheet FORMULÁRIO
A1: SECRETARIA MUNICIPAL DE EDUCAÇÃO
A2: DIRETORIA REGIONAL DE EDUCAÇÃO SÃO MIGUEL
A3: PROPOSTA DE DESIGNAÇÃO PARA A FUNÇÃO DE
A4: PROFESSOR ORIENTADOR DE ÁREA – POA – EMEF
A5: IN SME Nº 16, DOC 05/03/2025
B7: 1.0. DADOS DA DESIGNAÇÃO:
B8: No Ensino Fundamental serão designados para atuar como Professor Orientador de Área – POA:
C9: ( | D9: =IF(DIGITAR!C4="","",DIGITAR!C4) | E9: ) | F9: Professor de Educação Infantil e Ensino Fundamental I para atuar junto aos docentes com Alfabetização
C10: ( | D10: =IF(DIGITAR!C5="","",DIGITAR!C5) | E10: ) | F10: Professor de Ensino Fundamental II e Médio-Português para atuar junto aos docentes no componente Língua Portuguesa
C11: ( | D11: =IF(DIGITAR!C6="","",DIGITAR!C6) | E11: ) | F11: Professor de Ensino Fundamental II e Médio-Matemática para atuar junto aos docentes no componente de Matemática
B13: 2.0. UNIDADE PROPONENTE:
E15: =IF(DIGITAR!D9="","",DIGITAR!D9) | AD15: DRE: | AF15: =IF(DIGITAR!AE9="","",DIGITAR!AE9)
B18: 3.0. DADOS DO PROFESSOR EFETIVO E ESTÁVEL:
C20: Nome: | E20: =IF(DIGITAR!D12="","",DIGITAR!D12)
C21: Registro Funcional / Vínculo: | K21: =IF(DIGITAR!J13="","",DIGITAR!J13)
C22: U.E. de lotação | G22: =IF(DIGITAR!F14="","",DIGITAR!F14) | AC22: DRE: | AE22: =IF(DIGITAR!D15="","",DIGITAR!D15)
B25: 4.0. MANIFESTAÇÃO DO PROFESSOR ELEITO:
B27: ( | C27: =IF(DIGITAR!B18="","",DIGITAR!B18) | D27: ) | E27: apresentou Plano de Trabalho ao Conselho de Escola;
B29: ( | C29: =IF(DIGITAR!B19="","",DIGITAR!B19) | D29: ) | E29: exercerá suas funções sem prejuízo das atividades de regência de classes/aulas atribuídas que compõem sua jornada de trabalho/opção;
B31: ( | C31: =IF(DIGITAR!B20="","",DIGITAR!B20) | D31: ) | E31: terá horário de trabalho do POA organizado em conjunto com a Equipe Gestora com ciência do Supervisor Escolar, de forma a atender as
B32: necessidades da Unidade Educacional, em conformidade com o disposto na presente Instrução Normativa;
B34: ( | C34: =IF(DIGITAR!B22="","",DIGITAR!B22) | D34: ) | E34: tem a disponibilidade e compromete-se a cumprir | Q34: =IF(DIGITAR!P22="","",DIGITAR!P22) | R34: horas aulas semanalmente a título de Jornada Especial de Trabalho Excedente – TEX.
B36: ( | C36: =IF(DIGITAR!B23="","",DIGITAR!B23) | D36: ) | E36: possui acúmulo de cargos.
C38: Declaro que estou ciente, que NÃO farei jus ao Atestado para fins de Evolução Funcional se não cumprir:
B39: - atuação efetiva na função por no mínimo 8 (oito) meses no mesmo ano letivo;
B40: - frequência igual ou superior a 85% (oitenta e cinco por cento) do total de TEX atribuídos;
B41: - frequência igual ou superior a 85% (oitenta e cinco por cento) nas formações para as quais estiver convocado.
C43: São Paulo, | G43: =IF(DIGITAR!E25="","",DIGITAR!E25) | H43: / | I43: =IF(DIGITAR!G25="","",DIGITAR!G25) | J43: / | K43: 20 | L43: =IF(DIGITAR!J25="","",DIGITAR!J25)
W44: Assinatura do candidato eleito
B46: 5.0. CONSELHO DE ESCOLA:
C48: Reunião em | G48: =IF(DIGITAR!F28="","",DIGITAR!F28) | H48: / | I48: =IF(DIGITAR!H28="","",DIGITAR!H28) | J48: / | K48: 20 | L48: =IF(DIGITAR!K28="","",DIGITAR!K28) | W48: Carimbo e Assinatura do Diretor de Escola
B51: 6.0 PLANO DE TRABALHO SUBMETIDO À ANÁLISE DA:
B53: 6.1 DRE / DIPED:
D55: São Paulo, | G55: =IF(DIGITAR!F32="","",DIGITAR!F32) | H55: / | I55: =IF(DIGITAR!H32="","",DIGITAR!H32) | J55: / | K55: 20 | L55: =IF(DIGITAR!K32="","",DIGITAR!K32)
W56: Carimbo e Assinatura - DRE/DIPED
B58: 6.2 DRE / Supervisão Escolar:
D60: São Paulo, | G60: =IF(DIGITAR!F35="","",DIGITAR!F35) | H60: / | I60: =IF(DIGITAR!H35="","",DIGITAR!H35) | J60: / | K60: 20 | L60: =IF(DIGITAR!K35="","",DIGITAR!K35) | W60: Carimbo e Assinatura do Supervisor Escolar
