Workbook
Name _Hlk59019843: FORMULÁRIO!$A$32

Sheet DIGITAR
AI1: OS PREENCHIMENTO TEM QUE SER FEITO NESTA ABA "DIGITAR", A ABA "FORMULÁRIO" É SÓ PARA CONFERENCIA E IMPRESSÃO, SE PERCEBER QUE HÁ ERRO TEM QUE SER CORRIDO NESTA ABA DIGITAR".
A2: ( | C2: ) | D2: APÓS CONCURSO ANUAL DE REMOÇÃO 2025
A3: ( | C3: ) | D3: APÓS READAPTAÇÃO DAO TITULAR
A4: ( | C4: ) | D4: APOSENTADORIA
A5: ( | C5: ) | D5: NOMEADO/DESIGNADO EM DRE/SME | AJ5: ENVIAR PARA O EMAIL: rhcaacdremp@sme.prefeitura.sp.gov.br
AJ6: NÃO ENVIAR PARA O EMAIL DA MARCIA MARIA SEVERO DA SILVA OU DE QUALQUER MEMBRO DO SETOR DE NOMEAÇÃO/DESIGNAÇÃO.
A7: 1 - DADOS ESPECÍFICOS DA PORTARIA:
A8: ( | C8: ) | D8: SUPERVISOR ESCOLAR
A9: ( | C9: ) | D9: DIRETOR DE ESCOLA
A10: ( | C10: ) | D10: COORDENADOR PEDAGÓGICO
A11: UNIDADE DE EXERCÍCIO:
A12: D.R.E.:
A14: 2.DADOS DO SERVIDOR:
A15: NOME:
A16: RF / VÍNCULO:
A17: CARGO BASE:
A18: LOTAÇÃO:
A19: DRE:
A21: 3.INFORMAÇÕES COMPLEMENTARES:
A22: ( | C22: ) | D22: SERVIDOR ESTÁ COM NOVA LOTAÇÃO EM 2026.
A23: ( | C23: ) | D23: SERVIDOR ESTÁ COM NOVA LOTAÇÃO / DRE EM 2026.
A24: ( | C24: ) | D24: SERVIDOR PORTADOR DE LAUDO MÉDICO.
A25: ( | C25: ) | D25: SERVIDOR ACUMULA CARGOS/PROVENTOS/LIP/LSV
A27: 4. VIGÊNCIA DO CONCURSO (NÃO PREENCHER)
A28: ( | C28: ) | D28: APROVADO EM CONCURSO E ESTÁ DENTRO DO MANDATO E/OU DELIBERADO PELA CONTINUIDADE.
A29: ( | C29: ) | D29: NÃO APROVADO EM CONCURSO E ESTÁ DENTRO DO MANDATO E/OU ELEITO PELA CONTINUIDADE.
A31: 5.ALTERAR A DESIGNAÇÃO PARA CONSTAR:
A32: ( | C32: ) | D32: A PARTIR DE 01/01/2026 PASSA EXERCER O CARGO VAGO.
A33: ( | C33: ) | D33: A PARTIR DE 01/01/2026 PASSA EXERCER O CARGO DISPONÍVEL*.
A35: 6.DADOS DO TITULAR - CARGO DISPONÍVEL/CARGO VAGO
A36: TITULAR:
A37: RF / VÍNCULO:
A38: MOTIVO DO AFASTAMENTO:
A40: 7. REUNIÃO DE CONSELHO DE ESCOLA/REFERENDO
A42: DATA: | F42: / | I42: /

Sheet FORMULÁRIO
A2: SECRETARIA MUNICIPAL DE EDUCAÇÃO
A6: REGULARIZAÇÃO DA PORTARIA DE DESIGNAÇÃO
A8: ( | B8: =IF(DIGITAR!B2="","",DIGITAR!B2) | C8: ) | D8: APÓS CONCURSO ANUAL DE REMOÇÃO 2025
A9: ( | B9: =IF(DIGITAR!B3="","",DIGITAR!B3) | C9: ) | D9: APÓS READAPTAÇÃO DO TITULAR
A10: ( | B10: =IF(DIGITAR!B4="","",DIGITAR!B4) | C10: ) | D10: APOSENTADORIA
A11: ( | B11: =IF(DIGITAR!B5="","",DIGITAR!B5) | C11: ) | D11: NOMEADO/DESIGNADO EM DRE/SME
A13: 1 - DADOS ESPECÍFICOS DA PORTARIA:
A15: ( | B15: =IF(DIGITAR!B8="","",DIGITAR!B8) | C15: ) | D15: SUPERVISOR ESCOLAR | L15: ( | M15: =IF(DIGITAR!B9="","",DIGITAR!B9) | N15: ) | O15: DIRETOR DE ESCOLA | V15: ( | W15: =IF(DIGITAR!B10="","",DIGITAR!B10) | X15: ) | Y15: COORDENADOR PEDAGÓGICO
A17: UNIDADE DE EXERCÍCIO: | K17: =IF(DIGITAR!K11="","",DIGITAR!K11)
A18: D.R.E.: | E18: =IF(DIGITAR!E12="","",DIGITAR!E12)
A20: 2.DADOS DO SERVIDOR:
A22: NOME: | D22: =IF(DIGITAR!D15="","",DIGITAR!D15)
A23: RF / VÍNCULO: | H23: =IF(DIGITAR!H16="","",DIGITAR!H16)
A24: CARGO BASE: | G24: =IF(DIGITAR!G17="","",DIGITAR!G17)
A25: LOTAÇÃO: | E25: =IF(DIGITAR!E18="","",DIGITAR!E18) | W25: DRE: | Y25: =IF(DIGITAR!C19="","",DIGITAR!C19)
A27: 3.INFORMAÇÕES COMPLEMENTARES:
A29: ( | B29: =IF(DIGITAR!B22="","",DIGITAR!B22) | C29: ) | D29: SERVIDOR ESTÁ COM NOVA LOTAÇÃO EM 2026.
A30: ( | B30: =IF(DIGITAR!B23="","",DIGITAR!B23) | C30: ) | D30: SERVIDOR ESTÁ COM NOVA LOTAÇÃO / DRE EM 2026.
A31: ( | B31: =IF(DIGITAR!B24="","",DIGITAR!B24) | C31: ) | D31: SERVIDOR PORTADOR DE LAUDO MÉDICO.
A32: ( | B32: =IF(DIGITAR!B25="","",DIGITAR!B25) | C32: ) | D32: SERVIDOR ACUMULA CARGOS/PROVENTOS/LIP/LSV
A34: 4. VIGÊNCIA DO CONCURSO (NÃO PREENCHER)
A36: ( | B36: =IF(DIGITAR!B28="","",DIGITAR!B28) | C36: ) | D36: APROVADO EM CONCURSO E ESTÁ DENTRO DO MANDATO E/OU DELIBERADO PELA CONTINUIDADE.
A37: ( | B37: =IF(DIGITAR!B29="","",DIGITAR!B29) | C37: ) | D37: NÃO APROVADO EM CONCURSO E ESTÁ DENTRO DO MANDATO E/OU ELEITO PELA CONTINUIDADE.
A39: 5.ALTERAR A DESIGNAÇÃO PARA CONSTAR:
A41: ( | B41: =IF(DIGITAR!B32="","",DIGITAR!B32) | C41: ) | D41: A PARTIR DE 01/01/2026 PASSA EXERCER O CARGO VAGO.
A42: ( | B42: =IF(DIGITAR!B33="","",DIGITAR!B33) | C42: ) | D42: A PARTIR DE 01/01/2026 PASSA EXERCER O CARGO DISPONÍVEL.
A44: 6.DADOS DO TITULAR - CARGO DISPONÍVEL/CARGO VAGO
A46: TITULAR: | E46: =IF(DIGITAR!E36="","",DIGITAR!E36)
A47: RF / VÍNCULO: | F47: =IF(DIGITAR!H37="","",DIGITAR!H37)
A48: MOTIVO DO AFASTAMENTO: | L48: =IF(DIGITAR!L38="","",DIGITAR!L38)
A50: 7. REUNIÃO DE CONSELHO DE ESCOLA/REFERENDO
A52: DATA: | D52: =IF(DIGITAR!D42="","",DIGITAR!D42) | F52: =IF(DIGITAR!G42="","",DIGITAR!G42) | H52: =IF(DIGITAR!J42="","",DIGITAR!J42)
B55: Assinatura da Chefia Imediata
