Workbook

Sheet DIGITAR
A1: 1.0. DADOS DA DESIGNAÇÃO: | AN1: OS PREENCHIMENTO TEM QUE SER FEITO NESTA ABA "DIGITAR", A ABA "FORMULÁRIO" É SÓ PARA CONFERENCIA E IMPRESSÃO, SE PERCEBER QUE HÁ ERRO TEM QUE SER CORRIDO NESTA ABA DIGITAR".
A2: No Ensino Fundamental serão designados para atuar como Professor Orientador de Área – POA:
B3: ( | D3: ) | E3: Professor Orientador de Área – POA-EM de Linguagens e suas tecnologias (Português, Inglês, Espanhol, Arte ou Educação Física)
B4: ( | D4: ) | E4: Professor Orientador de Área – POA-EM de Matemática e suas tecnologias (Matemática)
B5: ( | D5: ) | E5: Professor Orientador de Área – POA-EM de Ciências Humanas e Sociais Aplicadas (Geografia, História, Filosofia ou Sociologia)
B6: ( | D6: ) | E6: Professor Orientador de Área – POA-EM de Ciências da Natureza e suas tecnologias (Física, Química ou Biologia) | AV6: TRAMITAÇÃO PARA DESIGNAÇÃO DE POA
AV7: Enviar formulário fisico com o plano de trabalho para DIPED que assinará o formulário, depois será enviado para Supervisor que também assinará, depois que for devolvido para UE digitalizar e encaminhar por email para o setor de CAAC com documentos/formulário abaixo:
A8: 2.0. UNIDADE PROPONENTE:
A9: EMEFM | AC9: DRE:
A11: 3.0. DADOS DO PROFESSOR EFETIVO E ESTÁVEL: | AV11: DOCUMENTOS PARA DESIGNAÇÃO DE POA
A12: Nome: | AV12: 1 - FORMULÁRIO DE DESIGNAÇÃO (COM ASSINATURA DIRETOR DE ESCOLA/DIPED/SUPERVISOR ESCOLAR)
A13: Registro Funcional / Vínculo:
A14: U.E. de lotação | AB14: DRE: | AV14: 2 - FORMULÁRIO FICHA LIMPA
AV15: 3 - PLANO DE TRABALHO
A16: 4.0. MANIFESTAÇÃO DO PROFESSOR ELEITO:
A17: ( | C17: ) | D17: apresentou Plano de Trabalho ao Conselho de Escola; | AV17: ENVIAR PARA O EMAIL: rhcaacdremp@sme.prefeitura.sp.gov.br
A18: ( | C18: ) | D18: exercerá suas funções sem prejuízo das atividades de regência de classes/aulas atribuídas que compõem sua jornada de trabalho/opção; | AV18: NÃO ENVIAR PARA O EMAIL DA MARCIA MARIA SEVERO DA SILVA OU DE QUALQUER MEMBRO DO SETOR DE NOMEAÇÃO/DESIGNAÇÃO.
A19: ( | C19: ) | D19: terá horário de trabalho do POA organizado em conjunto com a Equipe Gestora com ciência do Supervisor Escolar, de forma a atender as
A20: necessidades da Unidade Educacional, em conformidade com o disposto na presente Instrução Normativa;
A21: ( | C21: ) | D21: tem a disponibilidade e compromete-se a cumprir | S21: horas semanalmente a título de Jornada Especial de Trabalho Excedente – TEX. | AN21: SE FIZER JEX/TEX NÃO ESQUECER DE INFORMAR A QUANTIDADE.
A22: ( | C22: ) | D22: possui acúmulo de cargos.
B24: São Paulo, | G24: / | I24: / | J24: 20 | AN24: NÃO ESQUECER DE DATAR, AQUI NO PREENCHIMENTO OU NA ASSINATURA.
A26: 5.0. CONSELHO DE ESCOLA:
A27: Reunião em | F27: / | H27: / | I27: 20 | AN27: NÃO ESQUECER DE COLOCAR A DATA DO CONSELHO
A29: 6.0 PLANO DE TRABALHO SUBMETIDO À ANÁLISE DA:
A30: 6.1 DRE / DIPED:
C31: São Paulo, | G31: / | I31: / | J31: 20
A33: 6.2 DRE / Supervisão Escolar:
C34: São Paulo, | G34: / | I34: / | J34: 20

Sheet FORMULÁRIO
A1: SECRETARIA MUNICIPAL DE EDUCAÇÃO
A2: DIRETORIA REGIONAL DE EDUCAÇÃO SÃO MIGUEL
A3: PROPOSTA DE DESIGNAÇÃO PARA A FUNÇÃO DE
A4: PROFESSOR ORIENTADOR DE ÁREA – POA - EMEFM
A5: IN SME Nº 16, DOC 05/03/2025
B7: 1.0. DADOS DA DESIGNAÇÃO:
B8: No Ensino Fundamental serão designados para atuar como Professor Orientador de Área – POA:
C9: ( | D9: =IF(DIGITAR!C3="","",DIGITAR!C3) | E9: ) | F9: Professor Orientador de Área – POA-EM de Linguagens e suas tecnologias (Português, Inglês, Espanhol, Arte ou Educação Física)
C10: ( | D10: =IF(DIGITAR!C4="","",DIGITAR!C4) | E10: ) | F10: Professor Orientador de Área – POA-EM de Matemática e suas tecnologias (Matemática)
C11: ( | D11: =IF(DIGITAR!C5="","",DIGITAR!C5) | E11: ) | F11: Professor Orientador de Área – POA-EM de Ciências Humanas e Sociais Aplicadas (Geografia, História, Filosofia ou Sociologia)
C12: ( | D12: =IF(DIGITAR!C6="","",DIGITAR!C6) | E12: ) | F12: Professor Orientador de Área – POA-EM de Ciências da Natureza e suas tecnologias (Física, Química ou Biologia)
B15: 2.0. UNIDADE PROPONENTE:
C17: EMEFM | G17: =IF(DIGITAR!C9="","",DIGITAR!C9) | AD17: DRE: | AF17: =IF(DIGITAR!AE9="","",DIGITAR!AE9)
B20: 3.0. DADOS DO PROFESSOR EFETIVO E ESTÁVEL:
C22: Nome: | E22: =IF(DIGITAR!C12="","",DIGITAR!C12)
C23: Registro Funcional / Vínculo: | K23: =IF(DIGITAR!I13="","",DIGITAR!I13)
C24: U.E. de lotação | G24: =IF(DIGITAR!E14="","",DIGITAR!E14) | AC24: DRE: | AE24: =IF(DIGITAR!AD14="","",DIGITAR!AD14)
B27: 4.0. MANIFESTAÇÃO DO PROFESSOR ELEITO:
B29: ( | C29: =IF(DIGITAR!B17="","",DIGITAR!B17) | D29: ) | E29: apresentou Plano de Trabalho ao Conselho de Escola;
B31: ( | C31: =IF(DIGITAR!B18="","",DIGITAR!B18) | D31: ) | E31: exercerá suas funções sem prejuízo das atividades de regência de classes/aulas atribuídas que compõem sua jornada de trabalho/opção;
B33: ( | C33: =IF(DIGITAR!B19="","",DIGITAR!B19) | D33: ) | E33: terá horário de trabalho do POA organizado em conjunto com a Equipe Gestora com ciência do Supervisor Escolar, de forma a atender as
B34: necessidades da Unidade Educacional, em conformidade com o disposto na presente Instrução Normativa;
B36: ( | C36: =IF(DIGITAR!B21="","",DIGITAR!B21) | D36: ) | E36: tem a disponibilidade e compromete-se a cumprir | Q36: =IF(DIGITAR!Q21="","",DIGITAR!Q21) | S36: horas aulas semanalmente a título de Jornada Especial de Trabalho Excedente – TEX.
B38: ( | C38: =IF(DIGITAR!B22="","",DIGITAR!B22) | D38: ) | E38: possui acúmulo de cargos.
C40: Declaro que estou ciente, que NÃO farei jus ao Atestado para fins de Evolução Funcional se não cumprir:
B41: - atuação efetiva na função por no mínimo 8 (oito) meses no mesmo ano letivo;
B42: - frequência igual ou superior a 85% (oitenta e cinco por cento) do total de TEX atribuídos;
B43: - frequência igual ou superior a 85% (oitenta e cinco por cento) nas formações para as quais estiver convocado.
C45: São Paulo, | G45: =IF(DIGITAR!F24="","",DIGITAR!F24) | H45: / | I45: =IF(DIGITAR!H24="","",DIGITAR!H24) | J45: / | K45: 20 | L45: =IF(DIGITAR!K24="","",DIGITAR!K24)
W46: Assinatura do candidato eleito
B48: 5.0. CONSELHO DE ESCOLA:
C50: Reunião em | G50: =IF(DIGITAR!E27="","",DIGITAR!E27) | H50: / | J50: / | K50: 20 | L50: =IF(DIGITAR!J27="","",DIGITAR!J27) | W50: Carimbo e Assinatura do Diretor de Escola
B53: 6.0 PLANO DE TRABALHO SUBMETIDO À ANÁLISE DA:
B55: 6.1 DRE / DIPED:
D57: São Paulo, | G57: =IF(DIGITAR!F31="","",DIGITAR!F31) | H57: / | I57: =IF(DIGITAR!H31="","",DIGITAR!H31) | J57: / | K57: 20 | L57: =IF(DIGITAR!K31="","",DIGITAR!K31)
W58: Carimbo e Assinatura - DRE/DIPED
B60: 6.2 DRE / Supervisão Escolar:
D62: São Paulo, | G62: =IF(DIGITAR!F34="","",DIGITAR!F34) | H62: / | I62: =IF(DIGITAR!H34="","",DIGITAR!H34) | J62: / | K62: 20 | L62: =IF(DIGITAR!K34="","",DIGITAR!K34) | W62: Carimbo e Assinatura do Supervisor Escolar
