Workbook

Sheet DIGITAR
AI1: OS PREENCHIMENTO TEM QUE SER FEITO NESTA ABA "DIGITAR", A ABA "FORMULÁRIO" É SÓ PARA CONFERENCIA E IMPRESSÃO, SE PERCEBER QUE HÁ ERRO TEM QUE SER CORRIDO NESTA ABA DIGITAR". | AS1: DOCUMENTOS NECESSÁRIOS:
A2: UNIDADE PROPONENTE:
A3: UNIDADE: | AS3: DESIGNAÇÃO/SUBSTITUIÇÃO DE SECRETÁRIO DE ESCOLA
A4: D.R.E.: | AS4: * FORMULÁRIO DE DESIGNAÇÃO
A5: E.H.: | AS5: * FICHA LIMPA
A7: DADOS DA DESIGNAÇÃO: | AS7: DESIGNAÇÃO/SUBSTITUIÇÃO DE DIRETOR DE ESCOLA /COORDENADOR PEDAG./ASSIST. DIRETOR DE ESCOLA
A8: CARGO:
A9: MOTIVO DA INDICAÇÃO: | K9: ( | M9: ) | N9: CARGO VAGO | W9: ( | Y9: ) | Z9: CARGO DISPONÍVEL | AS9: * FORMULÁRIO DE DESIGNAÇÃO
A10: ( | C10: ) | D10: CONTINUIDADE
A11: PERÍODO/A PARTIR DE: | AI11: NÃO ESQUEÇA DE COLOCAR O PERÍODO OU A PARTIR DE | AS11: * MEMORANDO DE ANUENCIA COM O NOME DO PROF. QUE FICARÁ NAS AULAS
A12: Motivo do Impedimento do titular: | AI12: COLOCAR O MOTIVO DO IMPEDIMENTO E REPETIR O PERIODO DE DESIGNAÇÃO
AS13: * FICHA LIMPA
AS14: * CAAC SE TIVER ACUMULO
A15: DADOS DO INDICADO: | AI15: CAT NÃO APARECE AQUI PARA DIGITAR PORQUE NÃO É NECESSÁRIO. | AS15: * READAPTADO: RAPRE E LAUDO DA COARP
A16: Nome:
A17: RF / Vínculo: | AS17: DESIGNAÇÃO DE PAEE
A18: Cargo: | AS18: 1 - FORMULÁRIO DE DESIGNAÇÃO
A19: Lotação: | AS19: 2 - MEMORANDO DE ANUENCIA COM O NOME DO PRFESOR QUE FICARÁ COM AS AULAS
A20: DRE:
AS21: 3 - DIPLOMA DE GRADUAÇÃO
A22: SITUAÇÃO FUNCIONAL: | AS22: 4 - CERTIFICADO DE ESPECIALIZAÇÃO
A23: ( | C23: ) | D23: EFETIVO/ESTÁVEL | Q23: ( | S23: ) | T23: EM COMISSÃO | AI23: Ao lado estão quais cargos/funções que utilizam este formulário, e com quais formulários e documentos que devem ser enviados. | AS23: 5 - TELA DO SISTEMA EOL CURSOS E TITULOS
A24: Está atualmente designado/nomeado: | AS24: 6 - RG/CNH
A25: ( | C25: ) | D25: Sim. Qual? | AS25: 7- HOLERITE
AS26: 8 - PROPOSTA DE TRABALHO
A27: ACUMULA CARGOS/PROVENTOS: | AS27: 9 - FORMULÁRIO FICHA LIMPA
A28: ( | C28: ) | D28: Sim. | H28: ( | J28: ) | K28: Não | AS28: 10 - ATA DO CONSELHO DE ESCOLA
A29: ( | C29: ) | D29: Sim. Afastamento – art. 66, inciso IV da Lei 14.660/07. | AS29: 11 - LISTA DA TURMA DE ATENDIMENTO
AS30: 12 - PARECER TECNICO DO CEFAI
A31: READAPTAÇÃO FUNCIONAL: | AS31: 13 - FORMULÁRIO PARECER DA GESTÃO ESCOLAR
A32: ( | C32: ) | D32: Sim. | H32: ( | J32: ) | K32: Não | AS32: 14 - ACUMULO DE CARGOS NO EOL(LEMBRANDO QUE SÓ EM JANEIRO É FEITO DO FORMULÁRIO ANEXO I)
A34: SERVIDOR: | G34: ( | I34: ) | J34: CONCURSADO | R34: ( | T34: ) | U34: NÃO-CONCURSADO
A35: REUNIÃO DO CONSELHO DE ESCOLA: | S35: DATA | W35: / | Z35: / | AS35: * PARA OS PROFESSORES READAPTADOS ENVIAR O RAPRE E O LAUDO DE READAPTAÇÃO, PARA O PARECER DA COARP
A36: ( | C36: ) | D36: 1º FASE | J36: ( | L36: ) | M36: 2ª FASE (Referendo)
AS37: ENVIAR PARA O EMAIL: rhcaacdremp@sme.prefeitura.sp.gov.br
A38: DADOS DO TITULAR: | AS38: NÃO ENVIAR PARA O EMAIL DA MARCIA MARIA SEVERO DA SILVA OU DE QUALQUER MEMBRO DO SETOR DE NOMEAÇÃO/DESIGNAÇÃO.
A39: Nome:
A40: RF / Vínculo:
A41: Cargo: | AA41: Cat.
A42: SITUAÇÃO FUNCIONAL: | K42: ( | M42: ) | N42: EFETIVO/ESTÁVEL | X42: ( | Z42: ) | AA42: EM COMISSÃO

Sheet FORMULÁRIO
B2: PROPOSTA DE DESIGNAÇÃO PARA EXERCER CARGOS
B3: (nos termos do art. 55 e 56 da lei 14.660/2007)
B5: UNIDADE PROPONENTE:
B7: UNIDADE: | F7: =IF(DIGITAR!E3="","",DIGITAR!E3)
B8: D.R.E.: | F8: =IF(DIGITAR!E4="","",DIGITAR!E4)
B9: E.H.: | F9: =IF(DIGITAR!E5="","",DIGITAR!E5)
B11: DADOS DA DESIGNAÇÃO:
B13: CARGO: | F13: =IF(DIGITAR!E8="","",DIGITAR!E8)
B14: MOTIVO DA INDICAÇÃO: | L14: ( | M14: =IF(DIGITAR!L9="","",DIGITAR!L9) | N14: ) | O14: CARGO VAGO | T14: ( | U14: =IF(DIGITAR!X9="","",DIGITAR!X9) | V14: ) | W14: CARGO DISPONÍVEL | AD14: ( | AE14: =IF(DIGITAR!B10="","",DIGITAR!B10) | AF14: ) | AG14: CONTINUIDADE
B15: PERÍODO/A PARTIR DE: | N15: =IF(DIGITAR!E11="","",DIGITAR!E11)
B16: Motivo do Impedimento do titular: | R16: =IF(DIGITAR!Q12="","",DIGITAR!Q12)
B17: =IF(DIGITAR!A1="","",DIGITAR!A1)
B19: DADOS DO INDICADO:
B21: Nome: | E21: =IF(DIGITAR!D16="","",DIGITAR!D16)
B22: RF / Vínculo: | I22: =IF(DIGITAR!H17="","",DIGITAR!H17)
B23: Cargo: | E23: =IF(DIGITAR!D18="","",DIGITAR!D18) | Z23: Cat.
B24: Lotação: | F24: =IF(DIGITAR!E19="","",DIGITAR!E19) | Z24: DRE: | AC24: =IF(DIGITAR!D20="","",DIGITAR!D20)
B26: SITUAÇÃO FUNCIONAL:
B27: ( | C27: =IF(DIGITAR!B23="","",DIGITAR!B23) | D27: ) | E27: EFETIVO/ESTÁVEL | R27: ( | S27: =IF(DIGITAR!R23="","",DIGITAR!R23) | T27: ) | U27: EM COMISSÃO
B28: Está atualmente designado/nomeado:
B29: ( | C29: =IF(DIGITAR!B25="","",DIGITAR!B25) | D29: ) | E29: Sim.Qual?
B31: ACUMULA CARGOS/PROVENTOS:
B33: ( | C33: =IF(DIGITAR!B28="","",DIGITAR!B28) | D33: ) | E33: Sim. | I33: ( | J33: =IF(DIGITAR!I28="","",DIGITAR!I28) | K33: ) | L33: Não
B34: ( | C34: =IF(DIGITAR!B29="","",DIGITAR!B29) | D34: ) | E34: Sim. Afastamento – art. 66, inciso IV da Lei 14.660/07.
B36: READAPTAÇÃO FUNCIONAL:
B38: ( | C38: =IF(DIGITAR!B33="","",DIGITAR!B33) | D38: ) | E38: Sim. | I38: ( | J38: =IF(DIGITAR!I32="","",DIGITAR!I32) | K38: ) | L38: Não
B40: SERVIDOR: | H40: ( | I40: =IF(DIGITAR!H34="","",DIGITAR!H34) | J40: ) | K40: CONCURSADO | S40: ( | T40: =IF(DIGITAR!S34="","",DIGITAR!S34) | U40: ) | V40: NÃO-CONCURSADO
B42: REUNIÃO DO CONSELHO DE ESCOLA: | T42: DATA | V42: =IF(DIGITAR!U35="","",DIGITAR!U35) | X42: / | Y42: =IF(DIGITAR!X35="","",DIGITAR!X35) | AA42: / | AB42: =IF(DIGITAR!AA35="","",DIGITAR!AA35)
B43: ( | C43: =IF(DIGITAR!B36="","",DIGITAR!B36) | D43: ) | E43: 1º FASE | K43: ( | L43: =IF(DIGITAR!K36="","",DIGITAR!K36) | M43: ) | N43: 2ª FASE (Referendo)
B45: DADOS DO TITULAR:
B47: Nome: | E47: =IF(DIGITAR!D39="","",DIGITAR!D39)
B48: RF / Vínculo: | I48: =IF(DIGITAR!H40="","",DIGITAR!H40)
B49: Cargo: | F49: =IF(DIGITAR!E41="","",DIGITAR!E41) | AB49: Cat.
B50: SITUAÇÃO FUNCIONAL: | L50: ( | M50: =IF(DIGITAR!L42="","",DIGITAR!L42) | N50: ) | O50: EFETIVO/ESTÁVEL | Y50: ( | Z50: =IF(DIGITAR!Y42="","",DIGITAR!Y42) | AA50: ) | AB50: EM COMISSÃO
C53: Assinatura da Chefia
