Workbook

Sheet DIGITAR
AG1: OS PREENCHIMENTO TEM QUE SER FEITO NESTA ABA "DIGITAR", A ABA "FORMULÁRIO" É SÓ PARA CONFERENCIA E IMPRESSÃO, SE PERCEBER QUE HÁ ERRO TEM QUE SER CORRIDO NESTA ABA DIGITAR". | AP1: CONTRATADO PODERÁ EXERCER A FUNÇÃO, MAS NÃO TERÁ DESIGNAÇÃO
A2: 1. UNIDADE PROPONENTE:
AP3: PROFESSOR DE FUND II NÃO PODERÁ SER DESIGNADO
A4: 2. DADOS DO PROFESSOR EFETIVO:
A5: Nome
A6: Registro Funcional:
A7: Vinc. | AP7: DOCUMENTOS NECESSÁRIOS:
A8: Cargo Base:
A9: Lotação | AP9: Todos os documentos necessários estão no formulário
A10: DRE
A12: 3. O PROFESSOR DESIGNADO: | AP12: ENVIAR PARA O EMAIL: rhcaacdremp@sme.prefeitura.sp.gov.br
AP13: NÃO ENVIAR PARA O EMAIL DA MARCIA MARIA SEVERO DA SILVA OU DE QUALQUER MEMBRO DO SETOR DE NOMEAÇÃO/DESIGNAÇÃO.
A14: ( | C14: ) | D14: é Professor de Educação Infantil e Ensino Fundamental I;
A15: ( | C15: ) | D15: apresentou “Plano de Ação” conforme Comunicado SME nº 899, de 16 de Dezembro de 2024;
A16: ( | C16: ) | D16: tem disponibilidade para atender os estudantes nos diferentes turnos e de acordo com
A17: as necessidades definidas pela Equipe Gestora;
A18: ( | C18: ) | D18: tem disponibilidade de participar das formações ofertadas pela Rede, sem prejuízo no
A19: atendimento dos estudantes.
A20: 4. A DESIGNAÇÃO:
G21: § | H21: ( | J21: ) | K21: PRORROGAÇÃO | T21: ( | V21: ) | W21: NOVA DESIGNAÇÃO
G22: § | H22: ( | J22: ) | K22: COLABORATIVA | T22: ( | V22: ) | W22: CONTRATURNO
G23: § | H23: NO PERÍODO DE: | Q23: / | T23: / | U23: 2026 A 31/12/2026 | AG23: É OBRIGATÓRIO COLOCAR O INICIO DE EXERCICIO
A25: São Paulo, | F25: / | H25: / | I25: 20 | AG25: NÃO ESQUECER DE DATAR, AQUI NO PREENCHIMENTO OU NA ASSINATURA.
A27: 4. ACUMULO DE CARGOS:
A29: ( | C29: ) | D29: não | AG29: NÃO ESQUECER DE PREENCHER SE HÁ OU NÃO ACUMULO DE CARGOS
A30: ( | C30: ) | D30: sim | I30: Qual? | L30: ( | N30: ) | O30: PSMP | R30: ( | T30: ) | U30: ESTADO | Y30: ( | AA30: ) | AB30: OUTROS
A33: São Paulo, | G33: / | J33: / | K33: 20 | AG33: NÃO ESQUECER DE DATAR, AQUI NO PREENCHIMENTO OU NA ASSINATURA.

Sheet FORMULÁRIO
J2: SECRETARIA MUNICIPAL DE EDUCAÇÃO
J3: DIRETORIA REGIONAL DE EDUCAÇÃO SÃO MIGUEL
J4: PROPOSTA DE DESIGNAÇÃO PARA A FUNÇÃO DE
J5: PROFESSOR DE APOIO PEDAGÓGICO – PAP – 2º ANO - EMEF/EMEFM
J6: IN SME Nº 39, DE 09 DE DEZEMBRO DE 2024, D.O., de 10/12/2024
J7: COMUNICADO SME Nº 516 DE 08 DEZEMBRO DE 2025, D.O. 09/12/2025
C10: 1. UNIDADE PROPONENTE: | O10: =IF(DIGITAR!L2="","",DIGITAR!L2)
C14: 2. DADOS DO PROFESSOR EFETIVO:
C16: Nome | F16: =IF(DIGITAR!D5="","",DIGITAR!D5)
C17: Registro Funcional: | J17: =IF(DIGITAR!H6="","",DIGITAR!H6)
C18: Cargo Base: | H18: =IF(DIGITAR!F8="","",DIGITAR!F8)
C19: Lotação | F19: =IF(DIGITAR!D9="","",DIGITAR!D9) | AA19: DRE
C22: 3. O PROFESSOR DESIGNADO:
C24: ( | D24: =IF(DIGITAR!B14="","",DIGITAR!B14) | E24: ) | F24: é Professor de Educação Infantil e Ensino Fundamental I;
C26: ( | D26: =IF(DIGITAR!B15="","",DIGITAR!B15) | E26: ) | F26: apresentou “Plano de Ação” conforme Comunicado SME nº 516, DE 08 DE DEZEMBRO DE 2024;
C28: ( | D28: =IF(DIGITAR!B16="","",DIGITAR!B16) | E28: ) | F28: tem disponibilidade para atender os estudantes nos diferentes turnos e de acordo com as necessidades definidas
C29: pela Equipe Gestora;
C31: ( | D31: =IF(DIGITAR!B18="","",DIGITAR!B18) | E31: ) | F31: tem disponibilidade de participar das formações ofertadas pela Rede, sem prejuízo no atendimento dos estudantes.
C34: 4. A DESIGNAÇÃO:
I35: § | J35: ( | K35: =IF(DIGITAR!I21="","",DIGITAR!I21) | L35: ) | M35: PRORROGAÇÃO | V35: ( | W35: =IF(DIGITAR!U21="","",DIGITAR!U21) | X35: ) | Y35: NOVA DESIGNAÇÃO
I36: § | J36: ( | K36: =IF(DIGITAR!I22="","",DIGITAR!I22) | L36: ) | M36: COLABORATIVA | V36: ( | W36: =IF(DIGITAR!U22="","",DIGITAR!U22) | X36: ) | Y36: CONTRATURNO
I37: § | J37: NO PERÍODO DE: | Q37: =IF(DIGITAR!O23="","",DIGITAR!O23) | S37: / | T37: =IF(DIGITAR!R23="","",DIGITAR!R23) | V37: / | W37: 2026 A 31/12/2026
J39: São Paulo, | N39: =IF(DIGITAR!E25="","",DIGITAR!E25) | O39: / | P39: =IF(DIGITAR!G25="","",DIGITAR!G25) | Q39: / | R39: 20 | S39: =IF(DIGITAR!J25="","",DIGITAR!J25)
V40: Assinatura do professor eleito
C42: 5. ACUMULO DE CARGOS:
C44: ( | D44: =IF(DIGITAR!B29="","",DIGITAR!B29) | E44: ) | F44: não
C46: ( | D46: =IF(DIGITAR!B30="","",DIGITAR!B30) | E46: ) | F46: sim | K46: Qual? | N46: ( | O46: =IF(DIGITAR!M30="","",DIGITAR!M30) | P46: ) | Q46: PSMP | T46: ( | U46: =IF(DIGITAR!S30="","",DIGITAR!S30) | V46: ) | W46: ESTADO | AA46: ( | AB46: =IF(DIGITAR!Z30="","",DIGITAR!Z30) | AC46: ) | AD46: OUTROS
K47: Publicado no DOC | U47: / | X47: / | Y47: 20
C50: 6. DOCUMENTAÇÃO PARA DESIGNAÇÃO DE PAP-2º ANO:
D52: 5.1 | F52: PROPOSTA DE DESIGNAÇÃO PAP – 2º ANO
D53: 5.2 | F53: MEMORANDO DE ANUÊNCIA
D54: 5.3 | F54: PLANO DE AÇÃO
D55: 5.4 | F55: PARECER FAVORÁVEL SUPERVISÃO/DIPED/DIRETOR REGIONAL DE EDUCAÇÃO
D56: 5.5 | F56: FICHA LIMPA
D58: São Paulo, | J58: =IF(DIGITAR!E33="","",DIGITAR!E33) | L58: / | M58: =IF(DIGITAR!H33="","",DIGITAR!H33) | O58: / | P58: 20 | R58: =IF(DIGITAR!L33="","",DIGITAR!L33)
U59: Assinatura e Carimbo do Diretor de Escola
