Workbook

Sheet DIGITAR
AJ1: OS PREENCHIMENTO TEM QUE SER FEITO NESTA ABA "DIGITAR", A ABA "FORMULÁRIO" É SÓ PARA CONFERENCIA E IMPRESSÃO, SE PERCEBER QUE HÁ ERRO TEM QUE SER CORRIDO NESTA ABA DIGITAR".
A2: 1.UNIDADE PROPONENTE:
A4: 2. DADOS DO PROFESSOR EFETIVO E ESTÁVEL:
A5: Nome | AJ5: NÃO É NECESSÁRIO COLOCAR CAT E QPE, POR ISSO NÃO ESTA DISPONIVEL PARA DIGITAR.
A6: Registro Funcional: Vinc. Cat. QPE
A7: Vinc.
A8: Cargo Base: | AT8: DOCUMENTOS NECESSÁRIOS:
A9: Lotação
A10: DRE | AT10: Todos os documentos necessários estão no formulário
A12: 3. O PROFESSOR DESIGNADO:
A13: ( | C13: ) | D13: é Professor de Educação Infantil e Ensino Fundamental I ou Professor de Ensino Fundamental II | AT13: ENVIAR PARA O EMAIL: rhcaacdremp@sme.prefeitura.sp.gov.br
A14: e Médio, com habilitação em Pedagogia; | AT14: NÃO ENVIAR PARA O EMAIL DA MARCIA MARIA SEVERO DA SILVA OU DE QUALQUER MEMBRO DO SETOR DE NOMEAÇÃO/DESIGNAÇÃO.
A15: ( | C15: ) | D15: apresentou “Proposta de Trabalho” conforme Anexo II, parte integrante da IN SME Nº 2, de 30/01/2025;
A16: ( | C16: ) | D16: tem disponibilidade para atender os estudantes nos diferentes turnos e de acordo com as
A17: necessidades definidas pelo Conselho de Escola e equipe gestora;
A18: ( | C18: ) | D18: tem disponibilidade de participar das formações ofertadas pela Rede, sem prejuízo no atendimento
A19: dos estudantes.
A21: Data Reunião do Conselho | J21: / | L21: / | M21: 20 | O21: São Paulo, | S21: / | U21: / | V21: 20 | AJ21: NÃO ESQUECER DE DATAR A REUNIÃO DE CONSELHO. DATAR O FORMULÁRIO, AQUI NO PREENCHIMENTO OU NA ASSINATURA.
A23: 4. ACUMULO DE CARGOS:
A25: ( | C25: ) | D25: não
A27: ( | C27: ) | D27: sim | I27: Qual? | L27: ( | N27: ) | O27: PSMP | R27: ( | T27: ) | U27: ESTADO | Y27: ( | AA27: ) | AB27: OUTROS
A29: São Paulo, | F29: / | H29: / | I29: 20 | AJ29: NÃO ESQUECER DE DATAR, AQUI NO PREENCHIMENTO OU NA ASSINATURA.

Sheet FORMULÁRIO
A2: SECRETARIA MUNICIPAL DE EDUCAÇÃO
A3: DIRETORIA REGIONAL DE EDUCAÇÃO SÃO MIGUEL
A4: PROPOSTA DE DESIGNAÇÃO PARA A FUNÇÃO DE
A5: PROFESSOR DE APOIO PEDAGÓGICO – PAP – EMEF/EMEFM
A6: IN SME Nº 2, DOC 30/01/2025
C9: 1. UNIDADE PROPONENTE: | O9: =IF(DIGITAR!J2="","",DIGITAR!J2)
C13: 2. DADOS DO PROFESSOR EFETIVO E ESTÁVEL:
C15: Nome | F15: =IF(DIGITAR!D5="","",DIGITAR!D5)
C16: Registro Funcional: | J16: =IF(DIGITAR!H6="","",DIGITAR!H6) | P16: Vinc. | R16: =IF(DIGITAR!C7="","",DIGITAR!C7) | T16: Cat | Y16: QPE
C17: Cargo Base: | H17: =IF(DIGITAR!F8="","",DIGITAR!F8)
C18: Lotação | F18: =IF(DIGITAR!D9="","",DIGITAR!D9) | Z18: DRE | AB18: =IF(DIGITAR!C10="","",DIGITAR!C10)
C23: 3. O PROFESSOR DESIGNADO:
C25: ( | D25: =IF(DIGITAR!B13="","",DIGITAR!B13) | E25: ) | F25: é Professor de Educação Infantil e Ensino Fundamental I ou Professor de Ensino Fundamental II
C26: e Médio, com habilitação em Pedagogia;
C28: ( | D28: =IF(DIGITAR!B15="","",DIGITAR!B15) | E28: ) | F28: apresentou “Proposta de Trabalho” conforme Anexo II, parte integrante da IN SME Nº 2,
C29: de 30/01/2025;
C31: ( | D31: =IF(DIGITAR!B16="","",DIGITAR!B16) | E31: ) | F31: tem disponibilidade para atender os estudantes nos diferentes turnos e de acordo com as
C32: necessidades definidas pelo Conselho de Escola e equipe gestora;
C34: ( | D34: =IF(DIGITAR!B18="","",DIGITAR!B18) | E34: ) | F34: tem disponibilidade de participar das formações ofertadas pela Rede, sem prejuízo no atendimento
C35: dos estudantes.
B37: Data Reunião do Conselho | K37: =IF(DIGITAR!I21="","",DIGITAR!I21) | L37: / | M37: =IF(DIGITAR!K21="","",DIGITAR!K21) | N37: / | O37: =IF(DIGITAR!N21="","",DIGITAR!N21) | Q37: São Paulo, | T37: =IF(DIGITAR!R21="","",DIGITAR!R21) | U37: / | V37: =IF(DIGITAR!T21="","",DIGITAR!T21) | W37: / | X37: =IF(DIGITAR!W21="","",DIGITAR!W21)
AA38: Assinatura do professor eleito
C40: 4. ACUMULO DE CARGOS:
C42: ( | D42: =IF(DIGITAR!B25="","",DIGITAR!B25) | E42: ) | F42: não
C44: ( | D44: =IF(DIGITAR!B27="","",DIGITAR!B27) | E44: ) | F44: sim | K44: Qual? | N44: ( | O44: =IF(DIGITAR!M27="","",DIGITAR!M27) | P44: ) | Q44: PSMP | T44: ( | U44: =IF(DIGITAR!S27="","",DIGITAR!S27) | V44: ) | W44: ESTADO | AA44: ( | AB44: =IF(DIGITAR!Z27="","",DIGITAR!Z27) | AC44: ) | AD44: OUTROS
K45: Publicado no DOC | U45: / | X45: / | Y45: 20
C48: 5. DOCUMENTAÇÃO PARA DESIGNAÇÃO DE PAP:
D50: 5.1 | F50: PROPOSTA DE DESIGNAÇÃO PAP
D51: 5.2 | F51: MEMORANDO DE ANUÊNCIA
D52: 5.3 | F52: PLANO DE AÇÃO
D53: 5.4 | F53: PARECER FAVORÁVEL SUPERVISÃO/DIPED/DIRETOR REGIONAL DE EDUCAÇÃO
D54: 5.5 | F54: FICHA LIMPA
F56: São Paulo, | J56: =IF(DIGITAR!D29="","",DIGITAR!D29) | L56: / | M56: =IF(DIGITAR!G29="","",DIGITAR!G29) | O56: / | P56: =IF(DIGITAR!J29="","",DIGITAR!J29)
V57: Assinatura e Carimbo do Diretor de Escola
