Workbook

Sheet DIGITAR
AJ1: OS PREENCHIMENTO TEM QUE SER FEITO NESTA ABA "DIGITAR", A ABA "FORMULÁRIO" É SÓ PARA CONFERENCIA E IMPRESSÃO, SE PERCEBER QUE HÁ ERRO TEM QUE SER CORRIDO NESTA ABA DIGITAR".
A2: 1.0.UNIDADE PROPONENTE:
A4: 2.0. DADOS DO PROFESSOR EFETIVO E ESTÁVEL:
A6: Nome | AJ6: NÃO É NECESSÁRIO COLOCAR CAT E QPE, POR ISSO NÃO ESTA DISPONIVEL PARA DIGITAR.
A7: Registro Funcional:
A8: Vinc.
A9: Cargo Base:
A10: Lotação | X10: DRE
A12: 3.0 | C12: REUNIÃO DO CONSELHO DE ESCOLA: | AA12: Data: | AD12: / | AF12: / | AG12: 20 | AJ12: NÃO ESQUECER DE DATAR A REUNIÃO DE CONSELHO. E DO COMUNICADO SE HOUVE ABETURA PARA FORA DA UE. | AT12: DOCUMENTOS PARA DESIGNAÇÃO DE POED
A13: 3.1 | C13: DOC DO COMUNICADO PUBLICADO: | AA13: Data: | AD13: / | AF13: / | AG13: 20 | AT13: 1 - FORMULÁRIO DE DESIGNAÇÃO
A14: 3.2 | C14: PROFESSOR (A) POSSUI ACÚMULO DE CARGOS? | W14: ( | Y14: ) | Z14: SIM | AB14: ( | AD14: ) | AE14: NÃO | AJ14: NÃO ESQUECER O CAMPO DO ACUMULO DE CARGOS PUBLICOS, SE HOUVER CAAC PREENCHER NO SISTEMA EOL A PARTIR DE FEVEREIRO | AT14: 2 - FORMULÁRIO FICHA LIMPA
AT15: 3 - MEMORANDO DE ANUÊNCIA, COM O NOME E RF DO PROF QUE FICARÁ NAS AULAS CASO SEJA DE OUTRA UNIDADE/DRE
A16: 4.0. QUADRO GERAL DA UNIDADE ESCOLAR: | AJ16: NÃO ESQUECER DE PREENCHER TODOS CAMPOS EM QUE A ESCOLA E O PROFESSOR SE ENQUADRA
AT17: 4 -ACUMULO DE CARGOS(SE TIVER) DIGITADOS NO EOL
D18: Nº de aulas regular: | T18: Nº de Aulas São Paulo Integral:
AT19: ENVIAR PARA O EMAIL: rhcaacdremp@sme.prefeitura.sp.gov.br
A20: POED | D20: Nome | W20: Registro Funcional | AC20: Jornada de Trabalho Quantidade de aulas | AT20: NÃO ENVIAR PARA O EMAIL DA MARCIA MARIA SEVERO DA SILVA OU DE QUALQUER MEMBRO DO SETOR DE NOMEAÇÃO/DESIGNAÇÃO.
A21: já
A22: Desig. | AC22: JBD | AE22: JEIF | AG22: JEX
A23: 01
A24: 02
A26: São Paulo, | G26: / | J26: / | K26: 20 | AJ26: NÃO ESQUECER DE DATAR/CARIMBAR, AQUI NO PREENCHIMENTO OU NA ASSINATURA.
A28: 5.0 PLANO DE TRABALHO SUBMETIDO À ANÁLISE DA:
A30: 5.1 DRE / DIPED:
D32: São Paulo, | J32: / | M32: / | N32: 20
A34: 5.2 Supervisor Escolar:
D36: São Paulo, | J36: / | M36: / | N36: 20

Sheet FORMULÁRIO
A2: SECRETARIA MUNICIPAL DE EDUCAÇÃO
A3: DIRETORIA REGIONAL DE EDUCAÇÃO SÃO MIGUEL
A4: PROPOSTA DE DESIGNAÇÃO PARA A FUNÇÃO DE
A5: PROFESSOR DE ORIENTAÇÃO EDUCAÇÃO DIGITAL – POED – EMEF/EMEFM
A6: INSTRUÇÃO NORMATIVA SME Nº 47, DOC 14/12/2022
C9: 1.0. UNIDADE PROPONENTE:
C11: U.E. | E11: =IF(DIGITAR!K2="","",DIGITAR!K2)
C15: 2.0. DADOS DO PROFESSOR EFETIVO E ESTÁVEL:
C17: Nome | F17: =IF(DIGITAR!D6="","",DIGITAR!D6)
C18: Registro Funcional: | J18: =IF(DIGITAR!H7="","",DIGITAR!H7) | P18: Vinc. | R18: =IF(DIGITAR!C8="","",DIGITAR!C8) | T18: Cat | Y18: QPE
C19: Cargo Base: | H19: =IF(DIGITAR!F9="","",DIGITAR!F9)
C20: Lotação | F20: =IF(DIGITAR!D10="","",DIGITAR!D10) | Z20: DRE | AB20: =IF(DIGITAR!Z10="","",DIGITAR!Z10)
C23: 3.0 | E23: REUNIÃO DO CONSELHO DE ESCOLA: | AC23: Data: | AE23: =IF(DIGITAR!AC12="","",DIGITAR!AC12) | AF23: / | AG23: =IF(DIGITAR!AE12="","",DIGITAR!AE12) | AH23: / | AI23: 20 | AJ23: =IF(DIGITAR!AH12="","",DIGITAR!AH12)
C24: 3.1 | E24: DOC DO COMUNICADO PUBLICADO: | AC24: Data: | AE24: =IF(DIGITAR!AC13="","",DIGITAR!AC13) | AF24: / | AG24: =IF(DIGITAR!AE13="","",DIGITAR!AE13) | AH24: / | AI24: 20 | AJ24: =IF(DIGITAR!AH13="","",DIGITAR!AH13)
C25: 3.2 | E25: PROFESSOR (A) POSSUI ACÚMULO DE CARGOS? | Y25: ( | Z25: =IF(DIGITAR!X14="","",DIGITAR!X14) | AA25: ) | AB25: SIM | AD25: ( | AE25: =IF(DIGITAR!AC14="","",DIGITAR!AC14) | AF25: ) | AG25: NÃO
C28: 4.0. QUADRO GERAL DA UNIDADE ESCOLAR(Total das duas funções, se houver):
F30: Nº de aulas regular: | M30: =IF(DIGITAR!K18="","",DIGITAR!K18) | V30: Nº de Aulas São Paulo Integral: | AG30: =IF(DIGITAR!AE18="","",DIGITAR!AE18)
C32: POED | F32: Nome | Y32: Registro Funcional/ Vínculo | AE32: Jornada de Trabalho Quantidade de aulas
C33: já
C34: Desig. | AE34: JBD | AG34: JEIF | AI34: JEX
C35: 01 | F35: =IF(DIGITAR!D23="","",DIGITAR!D23) | Y35: =IF(DIGITAR!W23="","",DIGITAR!W23) | AE35: =IF(DIGITAR!AC23="","",DIGITAR!AC23) | AG35: =IF(DIGITAR!AE23="","",DIGITAR!AE23) | AI35: =IF(DIGITAR!AG23="","",DIGITAR!AG23)
C36: 02 | F36: =IF(DIGITAR!D24="","",DIGITAR!D24) | Y36: =IF(DIGITAR!W24="","",DIGITAR!W24) | AE36: =IF(DIGITAR!AC24="","",DIGITAR!AC24) | AG36: =IF(DIGITAR!AE24="","",DIGITAR!AE24) | AI36: =IF(DIGITAR!AG24="","",DIGITAR!AG24)
C38: 4.1 ENCAMINHAMENTO DO DIRETOR DE ESCOLA (Item V do art. 24)
E40: Apresentou proposta de Trabalho de acordo com o ANEXO I da IN de SME nº 47/2022.
G43: São Paulo, | K43: =IF(DIGITAR!E26="","",DIGITAR!E26) | M43: / | N43: =IF(DIGITAR!H26="","",DIGITAR!H26) | P43: / | Q43: 20 | R43: =IF(DIGITAR!L26="","",DIGITAR!L26)
V44: Assinatura e Carimbo do Diretor de Escola
C47: 5.0 PLANO DE TRABALHO SUBMETIDO À ANÁLISE DA:
C49: 5.1 DRE / DIPED:
F51: São Paulo, | J51: =IF(DIGITAR!H32="","",DIGITAR!H32) | L51: / | M51: =IF(DIGITAR!K32="","",DIGITAR!K32) | O51: / | P51: 20 | Q51: =IF(DIGITAR!O32="","",DIGITAR!O32)
V52: Assinatura e Carimbo - DRE / DIPED
C54: 5.2 Supervisor Escolar:
F56: São Paulo, | J56: =IF(DIGITAR!H36="","",DIGITAR!H36) | L56: / | M56: =IF(DIGITAR!K36="","",DIGITAR!K36) | O56: / | P56: 20 | Q56: =IF(DIGITAR!O36="","",DIGITAR!O36)
V57: Assinatura e Carimbo do Supervisor Escola
