Workbook

Sheet DIGITAR
AJ1: OS PREENCHIMENTO TEM QUE SER FEITO NESTA ABA "DIGITAR", A ABA "FORMULÁRIO" É SÓ PARA CONFERENCIA E IMPRESSÃO, SE PERCEBER QUE HÁ ERRO TEM QUE SER CORRIDO NESTA ABA DIGITAR".
A2: Unidade Proponente:
A3: NOME:
AS4: DOCUMENTOS PARA DESIGNAÇÃO DE POEI
A5: Dados do Professor Efetivo e Estável: | AS5: 1 - FORMULÁRIO DE DESIGNAÇÃO
A6: Nome | AS6: 2 - FORMULÁRIO FICHA LIMPA
A7: Cargo Base: | AS7: 3 - MEMORANDO DE ANUÊNCIA, COM O NOME E RF DO PROF QUE FICARÁ NAS AULAS CASO SEJA DE OUTRA UNIDADE/DRE
A8: Registro Funcional: Vinc. Cat. QPE
A9: VINC.: | AS9: 4 -ACUMULO DE CARGOS(SE TIVER) DIGITADOS NO EOL
A10: U. E. de Lotação: | Z10: DRE | AS10: 5 -PLANO DE TRABALHO
A12: Manifestação da Unidade Educacional participante do Programa "São Paulo Integral": | AS12: ENVIAR PARA O EMAIL: rhcaacdremp@sme.prefeitura.sp.gov.br
A13: O Professor eleito: | AS13: NÃO ENVIAR PARA O EMAIL DA MARCIA MARIA SEVERO DA SILVA OU DE QUALQUER MEMBRO DO SETOR DE NOMEAÇÃO/DESIGNAÇÃO.
B14: Tem disponibilidade de horário para atendimento dos estudantes e professores que atuam no | AJ14: NÃO ESQUECER DE PREENCHER TODOS CAMPOS EM QUE O PROFESSOR SE ENQUADRA
B15: Programa, sem prejuízo de suas atividades de regência de classe/aulas;
B16: Apresentou proposta de trabalho em consonância com o Projeto Político Pedagógico/
B17: Projeto Político Educacional do CEU;
B18: Tem disponibilidade para participar dos cursos ou encontros de formação/orientação
B19: promovidos pela Diretoria Regional de Educação e/ou pela Secretaria Municipal de Educação – SME.
B20: se compromete a cumprir | M20: horas-aula semanais a título de TEX, observado na Normativa.
E22: Possui acúmulo | K22: ( | M22: ) | N22: Sim | P22: ( | R22: ) | S22: Não | AJ22: NÃO ESQUECER O CAMPO DO ACUMULO DE CARGOS PUBLICOS, SE HOUVER CAAC PREENCHER NO SISTEMA EOL A PARTIR DE FEVEREIRO
A24: São Paulo, | E24: / | G24: / | H24: 20
A26: Proposta de Trabalho Referendada pelo Conselho de Escola: | AJ26: NÃO ESQUECER DE PREENCHER A DATA DO CONSELHO DE ESCOLA
A27: Reunião em | F27: / | H27: / | I27: 20
A29: Supervisão Escolar:
A30: São Paulo, | E30: / | G30: / | H30: 20
A32: 6.0 Despacho da Diretoria Regional de Educação:
C33: ( | E33: ) | F33: Indeferido | K33: ( | M33: ) | N33: Deferido
C34: São Paulo, | I34: / | L34: / | M34: 20

Sheet FORMULÁRIO
A3: SECRETARIA MUNICIPAL DE EDUCAÇÃO
A4: DIRETORIA REGIONAL DE EDUCAÇÃO SÃO MIGUEL
B6: PROPOSTA DE DESIGNAÇÃO PARA A FUNÇÃO DE PROFESSOR ORIENTADOR DE EDUCAÇÃO
B7: INTEGRAL IN SME Nº 53, DOC de 16/12/2025
B11: 1. 0 Unidade Proponente:
D12: NOME: | G12: =IF(DIGITAR!D3="","",DIGITAR!D3)
B16: 2.0 Dados do Professor Efetivo e Estável:
D17: Nome | G17: =IF(DIGITAR!D6="","",DIGITAR!D6)
D18: Cargo Base: | I18: =IF(DIGITAR!F7="","",DIGITAR!F7)
D19: Registro Funcional: | K19: =IF(DIGITAR!I8="","",DIGITAR!I8) | X19: VINC.: | AA19: =IF(DIGITAR!D9="","",DIGITAR!D9)
D20: U. E. de Lotação: | J20: =IF(DIGITAR!G10="","",DIGITAR!G10) | Z20: DRE | AB20: =IF(DIGITAR!AB10="","",DIGITAR!AB10)
B24: 3.0 Manifestação da Unidade Educacional participante do Programa "São Paulo Integral":
D26: O Professor eleito:
D28: =IF(DIGITAR!A14="","",DIGITAR!A14) | F28: tem disponibilidade de horário para atendimento de professores e turmas participantes dos
F29: Programas mencionados no artigo 1º da IN 53/25;
D31: =IF(DIGITAR!A16="","",DIGITAR!A16) | F31: Apresentou proposta de trabalho em consonância com o Projeto Político da Unidade Educacional;
D33: =IF(DIGITAR!A18="","",DIGITAR!A18) | F33: Tem disponibilidade para participar dos cursos ou encontros de formação/orientação
F34: promovidos pela Diretoria Regional de Educação e/ou pela Secretaria Municipal de Educação – SME.
D36: =IF(DIGITAR!A20="","",DIGITAR!A20) | F36: se compromete a cumprir | O36: =IF(DIGITAR!K20="","",DIGITAR!K20) | Q36: horas-aulas semanais a título de TEX, observado na Normativa.
F37: Possui acúmulo | L37: ( | M37: =IF(DIGITAR!L22="","",DIGITAR!L22) | N37: ) | O37: Sim | Q37: ( | R37: =IF(DIGITAR!Q22="","",DIGITAR!Q22) | S37: ) | T37: Não
V38: Assinatura do Indicado
D40: São Paulo, | G40: =IF(DIGITAR!D24="","",DIGITAR!D24) | H40: / | I40: =IF(DIGITAR!F24="","",DIGITAR!F24) | J40: / | K40: 20 | L40: =IF(DIGITAR!I24="","",DIGITAR!I24)
X41: Carimbo e Assinatura do Diretor de Escola
B44: 4.0 Plano de Trabalho Referendada pelo Conselho de Escola:
D46: Reunião em | H46: =IF(DIGITAR!E27="","",DIGITAR!E27) | I46: / | J46: =IF(DIGITAR!G27="","",DIGITAR!G27) | K46: / | L46: 20 | M46: =IF(DIGITAR!J27="","",DIGITAR!J27)
B50: 5.0 Supervisão Escolar:
D52: São Paulo, | G52: =IF(DIGITAR!D30="","",DIGITAR!D30) | H52: / | I52: =IF(DIGITAR!F30="","",DIGITAR!F30) | J52: / | K52: 20 | L52: =IF(DIGITAR!I30="","",DIGITAR!I30)
X53: Carimbo e Assinatura do Supervisão Escolar
B57: 6.0 Despacho da Diretoria Regional de Educação:
D58: ( | E58: =IF(DIGITAR!D33="","",DIGITAR!D33) | F58: ) | G58: Indeferido | L58: ( | M58: =IF(DIGITAR!L33="","",DIGITAR!L33) | N58: ) | O58: Deferido
D59: São Paulo, | H59: =IF(DIGITAR!G34="","",DIGITAR!G34) | J59: / | K59: =IF(DIGITAR!J34="","",DIGITAR!J34) | M59: / | N59: 20 | O59: =IF(DIGITAR!N34="","",DIGITAR!N34)
T60: Assinatura e Carimbo do Diretor Regional de Educação
