Workbook

Sheet DIGITAR
AK1: OS PREENCHIMENTO TEM QUE SER FEITO NESTA ABA "DIGITAR", A ABA "FORMULÁRIO" É SÓ PARA CONFERENCIA E IMPRESSÃO, SE PERCEBER QUE HÁ ERRO TEM QUE SER CORRIDO NESTA ABA DIGITAR".
A2: 1.0.UNIDADE PROPONENTE:
B4: 2.0. DADOS DO PROFESSOR EFETIVO E ESTÁVEL: | AK4: NÃO É NECESSÁRIO COLOCAR CAT E QPE, POR ISSO NÃO ESTA DISPONIVEL PARA DIGITAR.
A5: Nome
A6: Registro Funcional:
A7: Vinc.
A8: Cargo Base:
A9: Lotação | AU9: DOCUMENTOS PARA DESIGNAÇÃO DE POSL
A10: DRE | AU10: 1 - FORMULÁRIO DE DESIGNAÇÃO
AU11: 2 - FORMULÁRIO FICHA LIMPA
A12: 3.0 REUNIÃO DO CONSELHO DE ESCOLA: | Y12: Data: | AC12: / | AF12: / | AG12: 20 | AK12: NÃO ESQUECER DE DATAR A REUNIÃO DE CONSELHO. E DO COMUNICADO SE HOUVE ABETURA PARA FORA DA UE | AU12: 3 - MEMORANDO DE ANUÊNCIA, COM O NOME E RF DO PROF QUE FICARÁ NAS AULAS CASO SEJA DE OUTRA UNIDADE/DRE
A13: 3.1DOC DO COMUNICADO PUBLICADO: | Y13: Data: | AC13: / | AF13: / | AG13: 20
A14: 3.2 | C14: PROFESSOR (A) POSSUI ACÚMULO DE CARGOS? | W14: ( | Y14: ) | Z14: SIM | AB14: ( | AD14: ) | AE14: NÃO | AK14: NÃO ESQUECER O CAMPO DO ACUMULO DE CARGOS PUBLICOS, SE HOUVER CAAC PREENCHER NO SISTEMA EOL A PARTIR DE FEVEREIRO | AU14: 4 -ACUMULO DE CARGOS(SE TIVER) DIGITADOS NO EOL
A16: 4.0. QUADRO GERAL DA UNIDADE ESCOLAR: | AU16: ENVIAR PARA O EMAIL: rhcaacdremp@sme.prefeitura.sp.gov.br
AU17: NÃO ENVIAR PARA O EMAIL DA MARCIA MARIA SEVERO DA SILVA OU DE QUALQUER MEMBRO DO SETOR DE NOMEAÇÃO/DESIGNAÇÃO.
B18: Nº de CLASSES/TURMAS: | O18: Nº de TURMAS integrantes do São Paulo Integral:
A20: POSL | D20: Nome | W20: Registro Funcional | AC20: Jornada de Trabalho Quantidade de aulas
A21: já
A22: Desig. | AC22: JBD | AE22: JEIF | AG22: JEX
A23: 01
A24: 02
A26: São Paulo, | G26: / | J26: / | K26: 20 | AK26: NÃO ESQUECER DE DATAR/CARIMBAR, AQUI NO PREENCHIMENTO OU NA ASSINATURA.
A28: 5.0 PLANO DE TRABALHO SUBMETIDO À ANÁLISE DA:
A30: 5.1 DRE / DIPED:
D32: São Paulo, | J32: / | M32: / | N32: 20
A34: 5.2 Supervisor Escolar:
D36: São Paulo, | J36: / | M36: / | N36: 20

Sheet FORMULÁRIO
A2: SECRETARIA MUNICIPAL DE EDUCAÇÃO
A3: DIRETORIA REGIONAL DE EDUCAÇÃO SÃO MIGUEL
A4: PROPOSTA DE DESIGNAÇÃO PARA A FUNÇÃO DE
A5: PROFESSOR ORIENTADOR DE SALA DE LEITURA – POSL – EMEF/EMEFM
A6: INSTRUÇÃO NORMATIVA SME Nº 49, DOC 14/12/2022
C9: 1.0. UNIDADE PROPONENTE:
C11: NOME: | F11: =IF(DIGITAR!K2="","",DIGITAR!K2)
C14: 2.0. DADOS DO PROFESSOR EFETIVO E ESTÁVEL:
C16: Nome | F16: =IF(DIGITAR!D5="","",DIGITAR!D5)
C17: Registro Funcional: | J17: =IF(DIGITAR!H6="","",DIGITAR!H6) | P17: Vinc. | R17: =IF(DIGITAR!C7="","",DIGITAR!C7) | T17: Cat | Y17: QPE
C18: Cargo Base: | H18: =IF(DIGITAR!F8="","",DIGITAR!F8)
C19: Lotação | F19: =IF(DIGITAR!D9="","",DIGITAR!D9) | Z19: DRE | AB19: =IF(DIGITAR!C10="","",DIGITAR!C10)
C22: 3.0 | E22: REUNIÃO DO CONSELHO DE ESCOLA: | AC22: Data: | AE22: =IF(DIGITAR!AA12="","",DIGITAR!AA12) | AF22: / | AG22: =IF(DIGITAR!AD12="","",DIGITAR!AD12) | AH22: / | AI22: 20 | AJ22: =IF(DIGITAR!AH12="","",DIGITAR!AH12)
C23: 3.1 | E23: DOC DO COMUNICADO PUBLICADO: | AC23: Data: | AE23: =IF(DIGITAR!AA13="","",DIGITAR!AA13) | AF23: / | AG23: =IF(DIGITAR!AD13="","",DIGITAR!AD13) | AH23: / | AI23: 20 | AJ23: =IF(DIGITAR!AH13="","",DIGITAR!AH13)
C24: 3.2 | E24: PROFESSOR (A) POSSUI ACÚMULO DE CARGOS? | Y24: ( | Z24: =IF(DIGITAR!X14="","",DIGITAR!X14) | AA24: ) | AB24: SIM | AD24: ( | AE24: =IF(DIGITAR!AC14="","",DIGITAR!AC14) | AF24: ) | AG24: NÃO
C27: 4.0. QUADRO GERAL DA UNIDADE ESCOLAR(Total das duas funções, se houver):
D29: Nº de CLASSES/TURMAS: | M29: =IF(DIGITAR!K18="","",DIGITAR!K18) | Q29: Nº de TURMAS integrantes do São Paulo Integral: | AF29: =IF(DIGITAR!AD18="","",DIGITAR!AD18)
C31: POSL | F31: Nome | Y31: Registro Funcional/ Vinculo | AE31: Jornada de Trabalho Quantidade de aulas
C32: já
C33: Desig. | AE33: JBD | AG33: JEIF | AI33: JEX
C34: 01 | F34: =IF(DIGITAR!D23="","",DIGITAR!D23) | Y34: =IF(DIGITAR!W23="","",DIGITAR!W23) | AE34: =IF(DIGITAR!AC23="","",DIGITAR!AC23) | AG34: =IF(DIGITAR!AE23="","",DIGITAR!AE23) | AI34: =IF(DIGITAR!AG23="","",DIGITAR!AG23)
C35: 02 | F35: =IF(DIGITAR!D24="","",DIGITAR!D24) | Y35: =IF(DIGITAR!W24="","",DIGITAR!W24) | AE35: =IF(DIGITAR!AC24="","",DIGITAR!AC24) | AG35: =IF(DIGITAR!AE24="","",DIGITAR!AE24) | AI35: =IF(DIGITAR!AG24="","",DIGITAR!AG24)
C37: 4.1 ENCAMINHAMENTO DO DIRETOR DE ESCOLA (Item III do art. 26)
E39: Apresentou proposta de Trabalho de acordo com o ANEXO I da IN de SME nº 49/2022.
G42: São Paulo, | K42: =IF(DIGITAR!E26="","",DIGITAR!E26) | M42: / | N42: =IF(DIGITAR!H26="","",DIGITAR!H26) | P42: / | Q42: 20 | R42: =IF(DIGITAR!L26="","",DIGITAR!L26)
V43: Assinatura e Carimbo do Diretor de Escola
C46: 5.0 PLANO DE TRABALHO SUBMETIDO À ANÁLISE DA:
C48: 5.1 DRE / DIPED:
F50: São Paulo, | J50: =IF(DIGITAR!H32="","",DIGITAR!H32) | L50: / | M50: =IF(DIGITAR!K32="","",DIGITAR!K32) | O50: / | P50: 20 | Q50: =IF(DIGITAR!O32="","",DIGITAR!O32)
V51: Assinatura e Carimbo - DRE / DIPED
C53: 5.2 Supervisor Escolar:
F55: São Paulo, | J55: =IF(DIGITAR!H36="","",DIGITAR!H36) | L55: / | M55: =IF(DIGITAR!K36="","",DIGITAR!K36) | O55: / | P55: 20 | Q55: =IF(DIGITAR!O36="","",DIGITAR!O36)
V56: Assinatura e Carimbo do Supervisor Escolar
